BEGIN:VCALENDAR
PRODID:-//Microsoft Corporation//Outlook 12.0 MIMEDIR//EN
VERSION:2.0
CALSCALE:GREGORIAN
BEGIN:VEVENT
UID: 1be8d18f-3c54-448f-a27a-d978a22567cf
SUMMARY:11. klasside uurimis- ja praktiliste tööde kaitsmine
DTSTAMP:20260514T090000
DTSTART:20260514T090000
DTEND:20260515T150000
LOCATION:Märjamaa Rahvamaja kinosaalis
DESCRIPTION: <p><span style="-webkit-text-stroke-width:0px;background-color:rgb(252, 254, 255);color:rgb(17, 17, 17);display:inline !important;float:none;font-family:&quot;Stuudium Sans&quot;, BlinkMacSystemFont, -apple-system, &quot;Segoe UI&quot;, Roboto, Helvetica, Arial, sans-serif;font-size:15px;font-style:normal;font-variant-caps:normal;font-variant-ligatures:normal;font-weight:400;letter-spacing:-0.135px;orphans:2;text-align:start;text-decoration-color:initial;text-decoration-style:initial;text-decoration-thickness:initial;text-indent:0px;text-transform:none;white-space:normal;widows:2;word-spacing:0px;">Planeerime kaitsmise kahele päevale (14. ja 15. mai) Märjamaa rahvamaja kinosaalis.</span><br><span style="-webkit-text-stroke-width:0px;background-color:rgb(252, 254, 255);color:rgb(17, 17, 17);display:inline !important;float:none;font-family:&quot;Stuudium Sans&quot;, BlinkMacSystemFont, -apple-system, &quot;Segoe UI&quot;, Roboto, Helvetica, Arial, sans-serif;font-size:15px;font-style:normal;font-variant-caps:normal;font-variant-ligatures:normal;font-weight:400;letter-spacing:-0.135px;orphans:2;text-align:start;text-decoration-color:initial;text-decoration-style:initial;text-decoration-thickness:initial;text-indent:0px;text-transform:none;white-space:normal;widows:2;word-spacing:0px;">Ühel päeval osalevad 10.kl õpilased pealtvaatajatena.</span><br><span style="-webkit-text-stroke-width:0px;background-color:rgb(252, 254, 255);color:rgb(17, 17, 17);display:inline !important;float:none;font-family:&quot;Stuudium Sans&quot;, BlinkMacSystemFont, -apple-system, &quot;Segoe UI&quot;, Roboto, Helvetica, Arial, sans-serif;font-size:15px;font-style:normal;font-variant-caps:normal;font-variant-ligatures:normal;font-weight:400;letter-spacing:-0.135px;orphans:2;text-align:start;text-decoration-color:initial;text-decoration-style:initial;text-decoration-thickness:initial;text-indent:0px;text-transform:none;white-space:normal;widows:2;word-spacing:0px;">Eesmärk anda järgmisele lennule võimalus näha, kuidas kaitsmine välja näeb.</span></p><p><strong>Link: </strong>https://www.marjamaa.edu.ee/et/sundmuste-kalender/11-klasside-uurimis-ja-praktiliste-toode-kaitsmine</p><p><strong>Hind: </strong></p>
STATUS:CONFIRMED
SEQUENCE:3
X-ALT-DESC;FMTTYPE=text/html:<p><span style="-webkit-text-stroke-width:0px;background-color:rgb(252, 254, 255);color:rgb(17, 17, 17);display:inline !important;float:none;font-family:&quot;Stuudium Sans&quot;, BlinkMacSystemFont, -apple-system, &quot;Segoe UI&quot;, Roboto, Helvetica, Arial, sans-serif;font-size:15px;font-style:normal;font-variant-caps:normal;font-variant-ligatures:normal;font-weight:400;letter-spacing:-0.135px;orphans:2;text-align:start;text-decoration-color:initial;text-decoration-style:initial;text-decoration-thickness:initial;text-indent:0px;text-transform:none;white-space:normal;widows:2;word-spacing:0px;">Planeerime kaitsmise kahele päevale (14. ja 15. mai) Märjamaa rahvamaja kinosaalis.</span><br><span style="-webkit-text-stroke-width:0px;background-color:rgb(252, 254, 255);color:rgb(17, 17, 17);display:inline !important;float:none;font-family:&quot;Stuudium Sans&quot;, BlinkMacSystemFont, -apple-system, &quot;Segoe UI&quot;, Roboto, Helvetica, Arial, sans-serif;font-size:15px;font-style:normal;font-variant-caps:normal;font-variant-ligatures:normal;font-weight:400;letter-spacing:-0.135px;orphans:2;text-align:start;text-decoration-color:initial;text-decoration-style:initial;text-decoration-thickness:initial;text-indent:0px;text-transform:none;white-space:normal;widows:2;word-spacing:0px;">Ühel päeval osalevad 10.kl õpilased pealtvaatajatena.</span><br><span style="-webkit-text-stroke-width:0px;background-color:rgb(252, 254, 255);color:rgb(17, 17, 17);display:inline !important;float:none;font-family:&quot;Stuudium Sans&quot;, BlinkMacSystemFont, -apple-system, &quot;Segoe UI&quot;, Roboto, Helvetica, Arial, sans-serif;font-size:15px;font-style:normal;font-variant-caps:normal;font-variant-ligatures:normal;font-weight:400;letter-spacing:-0.135px;orphans:2;text-align:start;text-decoration-color:initial;text-decoration-style:initial;text-decoration-thickness:initial;text-indent:0px;text-transform:none;white-space:normal;widows:2;word-spacing:0px;">Eesmärk anda järgmisele lennule võimalus näha, kuidas kaitsmine välja näeb.</span></p><p><strong>Link: </strong>https://www.marjamaa.edu.ee/et/sundmuste-kalender/11-klasside-uurimis-ja-praktiliste-toode-kaitsmine</p><p><strong>Hind: </strong></p>
X-MICROSOFT-CDO-BUSYSTATUS:OOF
X-MICROSOFT-CDO-IMPORTANCE:1
X-MICROSOFT-DISALLOW-COUNTER:FALSE
X-MS-OLK-ALLOWEXTERNCHECK:TRUE
X-MS-OLK-CONFTYPE:0
X-MICROSOFT-CDO-ALLDAYEVENT:
X-MICROSOFT-MSNCALENDAR-ALLDAYEVENT:
END:VEVENT
END:VCALENDAR